BEGIN:VCALENDAR
VERSION:2.0
PRODID:-//ChamberMaster//Event Calendar 2.0//EN
METHOD:PUBLISH
X-PUBLISHED-TTL:P3D
REFRESH-INTERVAL:P3D
CALSCALE:GREGORIAN
BEGIN:VEVENT
DTSTART:20261204T140000Z
DTEND:20261204T150000Z
X-MICROSOFT-CDO-ALLDAYEVENT:FALSE
SUMMARY:Coffee Connection with the City of Del City
DESCRIPTION:Join us for our December Coffee Connection with the City of Del City! Join us to kick off the Holidays as we give you a sneak peak at the Christmas decorations for the Mayor's Tree Lighting.
X-ALT-DESC;FMTTYPE=text/html:Join us for our December Coffee Connection with the City of Del City! Join us to kick off the Holidays as we give you a sneak peak at the Christmas decorations for the Mayor&#39\;s Tree Lighting.
LOCATION:4505 SE 15th St\, Del City\, OK 73115
UID:e.3092.2275
SEQUENCE:3
DTSTAMP:20260420T065704Z
URL:https://business.delcitychamber.com/events/details/coffee-connection-with-the-city-of-del-city-2275
END:VEVENT

END:VCALENDAR
