BEGIN:VCALENDAR
VERSION:2.0
PRODID:-//ChamberMaster//Event Calendar 2.0//EN
METHOD:PUBLISH
X-PUBLISHED-TTL:P3D
REFRESH-INTERVAL:P3D
CALSCALE:GREGORIAN
BEGIN:VEVENT
DTSTART:20261105T140000Z
DTEND:20261105T150000Z
X-MICROSOFT-CDO-ALLDAYEVENT:FALSE
SUMMARY:Coffee Connection with SSM Health St. Anthony Hospital - Midwest
DESCRIPTION:Join us for our November Coffee Connection with SSM Health! This will be a great opportunity to meet with them\, Board members\, and other Chamber members.
X-ALT-DESC;FMTTYPE=text/html:<span style="font-size:18px\;">Join us for our November Coffee Connection with SSM Health! This will be a great opportunity to meet with them\, Board members\, and other Chamber members.</span>
LOCATION:2825 Parklawn Dr\, Midwest City\, OK 73110
UID:e.3092.2274
SEQUENCE:3
DTSTAMP:20260420T040629Z
URL:https://business.delcitychamber.com/events/details/coffee-connection-with-ssm-health-st-anthony-hospital-midwest-2274
END:VEVENT

END:VCALENDAR
